BEGIN:VCALENDAR
VERSION:2.0
PRODID:SchoolNow
CALSCALE:GREGORIAN
BEGIN:VEVENT
UID:0455c176-402f-11ee-a3d7-0a472bfcd05f
DTSTAMP:20230821T142837Z
SUMMARY:DeeCee Cornish - The Emancipation Trail
URL;VALUE=URI:https://www.coffeyville.edu/visitors/humanities-project/calen
 dar/4603121/deecee-cornish-the-emancipation-trail
DTSTART:20231018T000000Z
DTEND:20231018T010000Z
END:VEVENT
END:VCALENDAR
