BEGIN:VCALENDAR
VERSION:2.0
PRODID:SchoolNow
CALSCALE:GREGORIAN
BEGIN:VEVENT
UID:36f763c8-402f-11ee-9ca9-0a58a9feac02
DTSTAMP:20230821T143002Z
SUMMARY:Kerry Patrick Clark - American Workers in  Song
URL;VALUE=URI:https://www.coffeyville.edu/visitors/humanities-project/calen
 dar/4603122/kerry-patrick-clark-american-workers-in-song
DTSTART:20231025T000000Z
DTEND:20231025T010000Z
END:VEVENT
END:VCALENDAR
