BEGIN:VCALENDAR
VERSION:2.0
PRODID:SchoolNow
CALSCALE:GREGORIAN
BEGIN:VEVENT
UID:69ad0d18-402f-11ee-969c-0a58a9feac02
DTSTAMP:20230821T143127Z
SUMMARY:Fay & Daniel Senie
URL;VALUE=URI:https://www.coffeyville.edu/visitors/humanities-project/calen
 dar/4603123/fay-daniel-senie
DTSTART:20231101T000000Z
DTEND:20231101T010000Z
END:VEVENT
END:VCALENDAR
