BEGIN:VCALENDAR
VERSION:2.0
PRODID:SchoolNow
CALSCALE:GREGORIAN
BEGIN:VEVENT
UID:8b385910-402f-11ee-9c40-0e184cb3b38b
DTSTAMP:20230821T143223Z
SUMMARY:Jodee Lewis - Women of Country and  Western Music
URL;VALUE=URI:https://www.coffeyville.edu/visitors/humanities-project/calen
 dar/4603124/jodee-lewis-women-of-country-and-western-music
DTSTART:20231108T010000Z
DTEND:20231108T020000Z
END:VEVENT
END:VCALENDAR
