BEGIN:VCALENDAR
VERSION:2.0
PRODID:SchoolNow
CALSCALE:GREGORIAN
BEGIN:VEVENT
UID:bf09bc3e-402f-11ee-92c6-0229a6131bcf
DTSTAMP:20230821T143350Z
SUMMARY:Bob Bovee - Songs of the Western Pioneers
URL;VALUE=URI:https://www.coffeyville.edu/visitors/humanities-project/calen
 dar/4603125/bob-bovee-songs-of-the-western-pioneers
DTSTART:20231115T010000Z
DTEND:20231115T020000Z
END:VEVENT
END:VCALENDAR
