BEGIN:VCALENDAR
VERSION:2.0
PRODID:SchoolNow
CALSCALE:GREGORIAN
BEGIN:VEVENT
UID:2107d6a2-b644-11ee-8c13-0a58a9feac02
DTSTAMP:20240118T210657Z
SUMMARY:Nicholas Edward  Williams - Piedmont Blues
LOCATION:Spencer / Rounds Theatre
URL;VALUE=URI:https://www.coffeyville.edu/visitors/humanities-project/calen
 dar/5175333/nicholas-edward-williams-piedmont-blues
DTSTART:20240123T153000Z
DTEND:20240123T163000Z
END:VEVENT
END:VCALENDAR
