BEGIN:VCALENDAR
VERSION:2.0
PRODID:SchoolNow
CALSCALE:GREGORIAN
BEGIN:VEVENT
UID:45d09654-b644-11ee-974a-0a58a9feac02
DTSTAMP:20240118T210650Z
SUMMARY:Lisa Weyerhaeuser - Bird Songs of the Last  100 Years
LOCATION:Spencer / Rounds Theatre
URL;VALUE=URI:https://www.coffeyville.edu/visitors/humanities-project/calen
 dar/5175334/lisa-weyerhaeuser-bird-songs-of-the-last-100-years
DTSTART:20240130T153000Z
DTEND:20240130T163000Z
END:VEVENT
END:VCALENDAR
