BEGIN:VCALENDAR
VERSION:2.0
PRODID:SchoolNow
CALSCALE:GREGORIAN
BEGIN:VEVENT
UID:603df6b2-b644-11ee-babb-0ea0538c36bd
DTSTAMP:20240118T210747Z
SUMMARY:Sav Buist - Title TBA
LOCATION:Spencer / Rounds Theatre
URL;VALUE=URI:https://www.coffeyville.edu/visitors/humanities-project/calen
 dar/5175335/sav-buist-title-tba
DTSTART:20240206T153000Z
DTEND:20240206T163000Z
END:VEVENT
END:VCALENDAR
