BEGIN:VCALENDAR
VERSION:2.0
PRODID:SchoolNow
CALSCALE:GREGORIAN
BEGIN:VEVENT
UID:2a4dd9ee-b646-11ee-aadc-0a58a9feac02
DTSTAMP:20240118T211136Z
SUMMARY:March to August - Ballads and True  Stories for the Telling
LOCATION:Spencer / Rounds Theatre
URL;VALUE=URI:https://www.coffeyville.edu/visitors/humanities-project/calen
 dar/5175336/march-to-august-ballads-and-true-stories-for-the-telling
DTSTART:20240213T153000Z
DTEND:20240213T163000Z
END:VEVENT
END:VCALENDAR
