BEGIN:VCALENDAR
VERSION:2.0
PRODID:SchoolNow
CALSCALE:GREGORIAN
BEGIN:VEVENT
UID:51766662-b646-11ee-8fe5-0a58a9feac02
DTSTAMP:20240118T211242Z
SUMMARY:TBA - TBA
LOCATION:Spencer / Rounds Theatre
URL;VALUE=URI:https://www.coffeyville.edu/visitors/humanities-project/calen
 dar/5175337/tba-tba
DTSTART:20240220T153000Z
DTEND:20240220T163000Z
END:VEVENT
END:VCALENDAR
