BEGIN:VCALENDAR
VERSION:2.0
PRODID:SchoolNow
CALSCALE:GREGORIAN
BEGIN:VEVENT
UID:698486f8-b646-11ee-a4e5-02f554ed9059
DTSTAMP:20240118T211322Z
SUMMARY:Robin Bienemann - Sounds and Rhythm
LOCATION:Spencer / Rounds Theatre
URL;VALUE=URI:https://www.coffeyville.edu/visitors/humanities-project/calen
 dar/5175338/robin-bienemann-sounds-and-rhythm
DTSTART:20240227T153000Z
DTEND:20240227T163000Z
END:VEVENT
END:VCALENDAR
