BEGIN:VCALENDAR
VERSION:2.0
PRODID:SchoolNow
CALSCALE:GREGORIAN
BEGIN:VEVENT
UID:7f5841d6-b646-11ee-b691-0a58a9feac02
DTSTAMP:20240118T211359Z
SUMMARY:Matt Watroba - Traditions in Music  and Real Life
LOCATION:Spencer / Rounds Theatre
URL;VALUE=URI:https://www.coffeyville.edu/visitors/humanities-project/calen
 dar/5175339/robin-bienemann-sounds-and-rhythm-clone
DTSTART:20240305T153000Z
DTEND:20240305T163000Z
END:VEVENT
END:VCALENDAR
