BEGIN:VCALENDAR
VERSION:2.0
PRODID:SchoolNow
CALSCALE:GREGORIAN
BEGIN:VEVENT
UID:971f4a1c-b646-11ee-b9e2-0a705a7259c1
DTSTAMP:20240118T211439Z
SUMMARY:John Lowell - Western  Contemporary
LOCATION:Spencer / Rounds Theatre
URL;VALUE=URI:https://www.coffeyville.edu/visitors/humanities-project/calen
 dar/5175340/john-lowell-western-contemporary
DTSTART:20240319T143000Z
DTEND:20240319T153000Z
END:VEVENT
END:VCALENDAR
