BEGIN:VCALENDAR
VERSION:2.0
PRODID:SchoolNow
CALSCALE:GREGORIAN
BEGIN:VEVENT
UID:b61db372-b646-11ee-b6ee-0ea8d5dd1cdd
DTSTAMP:20240118T211531Z
SUMMARY:Aspen Black - What’s the Difference  Country Music vs  Western Mu
 sic
LOCATION:Spencer / Rounds Theatre
URL;VALUE=URI:https://www.coffeyville.edu/visitors/humanities-project/calen
 dar/5175341/john-lowell-western-contemporary-clone
DTSTART:20240402T143000Z
DTEND:20240402T153000Z
END:VEVENT
END:VCALENDAR
