BEGIN:VCALENDAR
VERSION:2.0
PRODID:SchoolNow
CALSCALE:GREGORIAN
BEGIN:VEVENT
UID:c93b52c0-b646-11ee-a9a8-0a58a9feac02
DTSTAMP:20240118T211603Z
SUMMARY:Ryan Burns - Irish Street Ballads
LOCATION:Spencer / Rounds Theatre
URL;VALUE=URI:https://www.coffeyville.edu/visitors/humanities-project/calen
 dar/5175342/ryan-burns-irish-street-ballads
DTSTART:20240409T143000Z
DTEND:20240409T153000Z
END:VEVENT
END:VCALENDAR
