BEGIN:VCALENDAR
VERSION:2.0
PRODID:SchoolNow
CALSCALE:GREGORIAN
BEGIN:VEVENT
UID:eecac17e-b646-11ee-9d68-0a8dfc30e6cd
DTSTAMP:20240118T211706Z
SUMMARY:Peter Harper &  Bobbi Llewellyn - First Australia: Music Art & Cult
 ure
LOCATION:Spencer / Rounds Theatre
URL;VALUE=URI:https://www.coffeyville.edu/visitors/humanities-project/calen
 dar/5175343/peter-harper-bobbi-llewellyn-first-australia-music-art-culture
DTSTART:20240416T143000Z
DTEND:20240416T153000Z
END:VEVENT
END:VCALENDAR
