BEGIN:VCALENDAR
VERSION:2.0
PRODID:SchoolNow
CALSCALE:GREGORIAN
BEGIN:VEVENT
UID:4e5c1a26-615e-11ef-aa69-0ec9eb09a8e7
DTSTAMP:20240823T150917Z
SUMMARY:Jan Seides - Austin Songwriter With Show Tunes In The Mix
LOCATION:Spencer / Rounds Theatre
URL;VALUE=URI:https://www.coffeyville.edu/visitors/humanities-project/calen
 dar/6447756/jan-seides-austin-songwriter-with-show-tunes-in-the-mix
DTSTART:20241008T230000Z
DTEND:20241009T000000Z
END:VEVENT
END:VCALENDAR
