BEGIN:VCALENDAR
VERSION:2.0
PRODID:SchoolNow
CALSCALE:GREGORIAN
BEGIN:VEVENT
UID:5f40bff4-615e-11ef-b9e7-0a58a9feac02
DTSTAMP:20241009T132005Z
SUMMARY:Dan & Faith Senie  - Boston/New England Original Songs Duo
LOCATION:Spencer / Rounds Theatre
URL;VALUE=URI:https://www.coffeyville.edu/visitors/humanities-project/calen
 dar/6447757/dan-faith-senie-boston-new-england-original-songs-duo
DTSTART:20241015T230000Z
DTEND:20241016T000000Z
END:VEVENT
END:VCALENDAR
